{"text_format":"1","workbook":"xlsx","n_sheets":7,"sheets":["БЖ","БЖ обратная сторона","Доп к БЖ","Доп к БЖ-2","Архив маршрутов","Справочники","Настройки"],"not_rendered":{"charts":0,"images":1,"macros":1,"external_links":0,"defined_names":6,"comments":0,"pivot_tables":0},"unopened":[],"bounds":{"document_bytes":16777216,"sheet_cells":100000,"rows_first":2000,"rows_last":500,"rows_between":2000,"halvings":0,"cell_chars":16384,"cell_head_chars":4096},"cells_cut":0,"cells_raw":0,"read":"whole","date_system":"1900"}

{"sheet":"БЖ","index":0,"n_rows":49,"n_cols":50,"rows_kept":49,"cut":false,"hidden":false,"merged":[[43,23,43,40],[45,5,45,7],[45,10,45,11],[38,4,38,5],[40,4,40,5],[43,4,43,5],[39,19,39,20],[41,19,41,20],[43,19,43,20],[42,21,42,22],[38,21,38,22],[39,21,39,22],[40,21,40,22],[41,21,41,22],[43,21,43,22],[42,6,42,8],[38,19,38,20],[40,19,40,20],[41,23,41,40],[42,23,42,40],[43,12,43,15],[43,6,43,8],[43,9,43,11],[36,12,36,15],[38,12,38,15],[40,12,40,15],[36,4,36,5],[36,23,36,40],[37,23,37,40],[38,23,38,40],[39,23,39,40],[40,23,40,40],[37,21,37,22],[36,17,36,18],[38,17,38,18],[40,17,40,18],[36,19,36,20],[36,21,36,22],[36,2,36,3],[37,4,37,5],[36,6,36,8],[37,6,37,8],[38,6,38,8],[40,6,40,8],[36,9,36,11],[37,9,37,11],[38,9,38,11],[40,9,40,11],[37,2,37,3],[38,2,38,3],[40,2,40,3],[30,37,30,38],[31,37,31,38],[29,37,29,38],[32,37,32,38],[30,39,30,40],[31,39,31,40],[29,39,29,40],[32,39,32,40],[43,2,43,3],[39,2,39,3],[41,2,41,3],[42,2,42,3],[39,4,39,5],[41,4,41,5],[42,4,42,5],[39,6,39,8],[41,6,41,8],[34,12,34,22],[35,9,35,11],[42,17,42,18],[42,19,42,20],[39,9,39,11],[41,9,41,11],[42,9,42,11],[29,11,29,13],[32,11,32,13],[26,7,26,8],[30,35,30,36],[31,35,31,36],[29,35,29,36],[32,35,32,36],[29,14,29,16],[29,17,29,20],[29,21,29,24],[29,25,29,28],[29,29,29,32],[29,33,29,34],[29,7,29,10],[31,33,31,34],[32,33,32,34],[14,11,14,12],[11,7,11,8],[12,7,12,8],[22,11,22,12],[23,11,23,12],[24,11,24,12],[25,11,25,12],[24,7,24,8],[25,7,25,8],[19,7,19,8],[20,7,20,8],[21,7,21,8],[22,7,22,8],[23,7,23,8],[29,1,29,2],[29,4,29,6],[26,11,26,12],[34,0,34,11],[2,0,2,4],[9,7,10,8],[9,9,10,10],[15,7,15,8],[16,7,16,8],[17,7,17,8],[18,7,18,8],[9,0,10,0],[13,7,13,8],[31,1,31,2],[14,7,14,8],[11,11,11,12],[12,11,12,12],[13,11,13,12],[35,0,35,1],[35,17,35,18],[35,19,35,20],[34,23,34,40],[35,23,35,40],[32,1,32,2],[32,4,32,6],[32,14,32,16],[32,17,32,20],[32,21,32,24],[32,25,32,28],[32,29,32,32],[35,4,35,5],[32,7,32,10],[35,12,35,15],[35,21,35,22],[31,4,31,6],[31,14,31,16],[31,17,31,20],[31,21,31,24],[31,25,31,28],[31,29,31,32],[30,7,30,10],[31,7,31,10],[30,11,30,13],[31,11,31,13],[36,0,36,1],[38,0,38,1],[40,0,40,1],[43,0,43,1],[19,27,20,28],[27,0,27,40],[11,25,12,26],[15,21,16,22],[20,14,20,15],[17,19,18,20],[15,16,16,18],[19,19,20,20],[17,16,18,18],[22,14,22,15],[13,31,14,32],[17,31,18,32],[15,31,16,32],[15,14,15,15],[16,14,16,15],[19,16,20,18],[11,29,12,30],[21,25,22,27],[21,16,22,24],[17,21,18,22],[11,33,11,40],[11,31,12,32],[12,33,12,40],[11,27,12,28],[28,0,28,40],[30,1,30,2],[30,4,30,6],[30,14,30,16],[30,17,30,20],[30,21,30,24],[30,25,30,28],[30,29,30,32],[30,33,30,34],[12,14,12,15],[13,14,13,15],[14,14,14,15],[11,14,11,15],[13,21,14,22],[12,19,12,20],[11,19,11,22],[13,29,14,30],[15,29,16,30],[17,29,18,30],[13,25,14,26],[9,27,9,28],[10,31,10,32],[9,29,9,30],[6,12,6,16],[6,34,6,37],[3,18,3,20],[3,29,3,34],[6,17,6,27],[2,23,2,29],[2,6,2,12],[9,5,10,6],[9,33,9,40],[10,33,10,40],[9,11,10,12],[10,21,10,22],[10,23,10,24],[9,16,9,24],[11,16,12,18],[13,19,14,20],[13,16,14,18],[15,19,16,20],[11,23,12,24],[13,23,14,24],[12,21,12,22],[25,14,25,15],[23,16,24,32],[19,31,20,32],[21,28,22,32],[17,27,18,28],[19,25,20,26],[17,23,18,24],[21,14,21,15],[19,29,20,30],[19,21,20,22],[15,23,16,24],[19,23,20,24],[13,27,14,28],[19,11,19,12],[24,33,24,40],[25,33,25,40],[26,33,26,40],[15,25,16,26],[17,25,18,26],[15,27,16,28],[25,16,25,22],[15,11,15,12],[16,11,16,12],[17,11,17,12],[18,11,18,12],[20,11,20,12],[21,11,21,12],[0,0,0,40],[9,14,10,15],[8,0,8,15],[9,1,10,1],[9,2,10,2],[9,4,10,4],[9,31,9,32],[9,3,10,3],[8,33,8,40],[10,29,10,30],[10,27,10,28],[10,25,10,26],[1,0,1,4],[3,0,3,4],[4,0,4,4],[3,14,3,16],[4,14,4,16],[2,30,2,32],[2,33,2,34],[9,25,9,26],[8,16,8,32],[9,13,10,13],[10,19,10,20],[3,23,3,28],[48,37,48,40],[45,37,45,40],[13,33,13,40],[14,33,14,40],[15,33,15,40],[16,33,16,40],[17,14,17,15],[18,14,18,15],[21,33,21,40],[22,33,22,40],[23,33,23,40],[17,33,17,40],[18,33,18,40],[19,33,19,40],[20,33,20,40],[23,14,23,15],[24,14,24,15],[19,14,19,15],[37,17,37,18],[39,17,39,18],[41,17,41,18],[43,17,43,18],[37,19,37,20],[26,14,26,15]]}
["БОРТОВОЙ ЖУРНАЛ ЛЕТЧИКА-НАБЛЮДАТЕЛЯ"]
["Владимирская"]
["база авиационной охраны лесов",null,null,null,null,null,"2019-10-05",null,null,null,null,null,null,null,null,null,null,null,null,null,null,null,null,"к заявке на полет №",null,null,null,null,null,null,62,null,null,null,null,"Очередной № пожара",null,null,null,100,null,1,1,1,1,1,2,5,5,1]
["Владимирское",null,null,null,null,null,null,null,"Самолет (вертолет)",null,null,null,null,null,"Ан-2",null,null,"№","02525",null,null,null,null,"Командир ВС",null,null,null,null,null,"Петров И.П.",null,null,null,null,null,"Очередн. № донесения",null,null,null,1]
["авиационное отделение",null,null,null,null,null,null,null,null,null,null,null,null,null,null,null,null,null,null,null,null,null,null,null,null,null,null,null,null,null,null,null,null,null,null,"КПО",3]
[]
[null,null,null,null,null,null,null,null,null,null,null,null,"Летчик-наблюдатель",null,null,null,null,"Иванов И.А.",null,null,null,null,null,null,null,null,null,null,null,"Проверяющий"]
[]
["Предварительный расчет полета",null,null,null,null,null,null,null,null,null,null,null,null,null,null,null,"Необходимый запас ГСМ с учетом",null,null,null,null,null,null,null,null,null,null,null,null,null,null,null,null,"План работы"]
["Маршрут","МПУ","УС","УВ","МК","Vпр.",null,"W",null,"S, км",null,"tП",null,"Hрел.","Hбез пр.",null,"навигационного запаса на",null,null,null,null,null,null,null,null,{"$f":"HOUR(L27+Настройки!E2)","v":0},null,"час.",null,{"$f":"MINUTE((L27+Настройки!E2))","v":45},null,"мин.",null,"Лесоавиационные работы"]
[null,null,null,null,null,null,null,null,null,null,null,null,null,null,null,null,null,"Нрас.",null,"500",null,"м;  δн",null,60,null,";     U",null,18,null,"км/ч"]
["Владимир",220,{"$f":"IF(F12>0,ROUND((180/PI()*ASIN(U/F12*SIN(D12*PI()/180))),1),0)","v":-2},{"$f":"IF((бн-B12)>180,-(360-(бн-B12)),IF((бн-B12)<-180,360+(бн-B12),бн-B12))","v":-160},{"$f":"ROUND(IF((B12-C12)>360,B12-C12-360,IF((B12-C12)<0,B12-C12+360,B12-C12)),0)","v":222},180,null,{"$f":"IF(B12>0,ROUND(F12*COS((C12*PI()/180))+U*COS(D12*PI()/180),0),0)","v":163},null,25,null,{"$f":"IF(AND(J12>0,F12>0),TIME(ROUND(J12/H12,0),ROUND(J12/H12*60-ROUND(J12/H12,0)*60,0),0),0)","v":"00:09:00"},null,168,{"$f":"IF(N12<>0,ROUND(IF(N12<500,IF(F12>300,200,100),IF(N12<2000,300,600))+N12-($X$14-15)/300*(IF(N12<500,IF(F12>300,200,100),IF(N12<2000,300,600))+N12),0),0)","v":267},null,"Пункты",null,null,"Солнце",null,null,null,"Темп.",null,"P",null,"Нм",null,"δ",null,"U"]
["Собинка",149,-5.7,-89,{"$f":"ROUND(IF((B13-C13)>360,B13-C13-360,IF((B13-C13)<0,B13-C13+360,B13-C13)),0)","v":155},180,null,179,null,37,null,"00:12:00",null,162,{"$f":"IF(N13<>0,ROUND(IF(N13<500,IF(F13>300,200,100),IF(N13<2000,300,600))+N13-($X$14-15)/300*(IF(N13<500,IF(F13>300,200,100),IF(N13<2000,300,600))+N13),0),0)","v":261},null,null,null,null,"восх.",null,"зах.",null,null,null,null,null,null,null,null,null,null,null,null,null,null,null,null,null,null,null," "]
["Уршельский",105,-4.0999999999999996,-45,109,180,null,192,null,97,null,"00:30:00",null,162,261,null,"Владимир",null,null,"06:39:00",null,"17:58:00",null,16,null,"756",null,"164",null,"210",null,"3"]
["Меленки",360,5,60,355,180,null,188,null,62,null,"00:20:00",null,154,253]
["КР.Горбатка",38,2.1,22,36,180,null,{"$f":"IF(B16>0,ROUND(F16*COS((C16*PI()/180))+U*COS(D16*PI()/180),0),0)","v":197},null,55,null,"00:17:00",null,159,258]
["Перово",276,3.4,144,273,180,null,165,null,72,null,{"$f":"IF(AND(J17>0,F17>0),TIME(ROUND(J17/H17,0),ROUND(J17/H17*60-ROUND(J17/H17,0)*60,0),0),0)","v":"00:26:00"},null,152,251]
["Ковров",224,-1.6,-164,226,180,null,163,null,60,null,{"$f":"IF(AND(J18>0,F18>0),TIME(ROUND(J18/H18,0),ROUND(J18/H18*60-ROUND(J18/H18,0)*60,0),0),0)","v":"00:22:00"},null,131,230]
["Бараки",294,4.5999999999999996,126,289,180,null,169,null,17,null,{"$f":"IF(AND(J19>0,F19>0),TIME(ROUND(J19/H19,0),ROUND(J19/H19*60-ROUND(J19/H19,0)*60,0),0),0)","v":"00:06:00"},null,164,263]
["Владимир",0,0,60,0,null,null,0,null,0,null,"00:00:00",null,0,0]
[0,0,0,60,0,null,null,0,null,0,null,"00:00:00",null,0,0]
[0,0,0,60,0,null,null,0,null,0,null,"00:00:00",null,0,0,null,"Pмин. прив. по маршруту",null,null,null,null,null,null,null,null,"771",null,null,"мм рт.ст."]
[0,0,0,60,0,null,null,0,null,0,null,"00:00:00",null,0,0]
[0,0,0,60,0,null,null,0,null,0,null,"00:00:00",null,0,0,null,"Предполетную подготовку проверил:"]
[0,0,0,60,0,null,null,0,null,0,null,"00:00:00",null,0,0]
[0,0,0,60,0,null,null,0,null,0,null,"00:00:00",null,0,0,null,"2019-09-12",null,null,null,null,null,null,"Подпись "]
[null,null,0,null,null,null,null,0,null,{"$f":"SUM(K12:K26)","v":0},null,{"$f":"SUM(M12:M26)","v":"00:00:00"},null,null,0]
["ОТЧЁТ О ВЫПОЛНЕНИИ ПОЛЁТА"]
["Распределение налета на тушение по пожарам"]
["Ведомство ","ФАЛХ"]
["Лесничество","Кольчуг.",null,null,null,null,null,null,null,null,null,null,null,null,null,null,null,null,null,null,null,null,null,null,null,0]
["№ пожара",100,null,null,null,null,null,0,null,null,null,0,null,null,0,null,null,0,null,null,null,0,null,null,null,null,null,null,null,0]
["Налёт, час:мин.","00:15:00"]
["Налёт, мин.",{"$f":"MINUTE(B33)+HOUR(B33)*60","v":15},null,null,{"$f":"MINUTE(E33)+HOUR(E33)*60","v":0},0,0,{"$f":"MINUTE(H33)+HOUR(H33)*60","v":0},null,null,0,{"$f":"MINUTE(L33)+HOUR(L33)*60","v":0},null,0,{"$f":"MINUTE(O33)+HOUR(O33)*60","v":0},null,0,{"$f":"MINUTE(R33)+HOUR(R33)*60","v":0},null,0,null,{"$f":"MINUTE(V33)+HOUR(V33)*60","v":0},null,0,null,{"$f":"MINUTE(Z33)+HOUR(Z33)*60","v":0},null,0,null,{"$f":"MINUTE(AD33)+HOUR(AD33)*60","v":0},null,0,null,{"$f":"MINUTE(AH33)+HOUR(AH33)*60","v":0},null,{"$f":"MINUTE(AJ33)+HOUR(AJ33)*60","v":0},null,{"$f":"MINUTE(AL33)+HOUR(AL33)*60","v":0},null,{"$f":"MINUTE(AN33)+HOUR(AN33)*60","v":0}]
["Налет по видам работ",null,null,null,null,null,null,null,null,null,null,null,"Личный налёт по группам",null,null,null,null,null,null,null,null,null,null,"Дополнительная информация"]
["Вид работ\\ведомство",null,{"$f":"Справочники!G2","v":"ФАЛХ"},null,{"$f":"Справочники!G3","v":"ООПТ"},null,"Прочие",null,null,"Итого",null,null,"ФИО",null,null,null,"II",null,null,null,null,"Итого"]
["Тушение",null,{"$f":"TIME(ROUNDDOWN(C38/60,0),C38-ROUNDDOWN(C38/60,0)*60,0)","v":"00:15:00"},null,{"$f":"TIME(ROUNDDOWN(E38/60,0),E38-ROUNDDOWN(E38/60,0)*60,0)","v":"00:00:00"},null,{"$f":"TIME(ROUNDDOWN(G38/60,0),G38-ROUNDDOWN(G38/60,0)*60,0)","v":"00:00:00"},null,null,{"$f":"TIME(ROUNDDOWN(J38/60,0),J38-ROUNDDOWN(J38/60,0)*60,0)","v":"00:15:00"},null,null,{"$f":"R7","v":"Иванов И.А."},null,null,null,"01:45:00",null,null,null,null,{"$f":"TIME(ROUNDDOWN(V38/60,0),V38-ROUNDDOWN(V38/60,0)*60,0)","v":"01:45:00"}]
["Тушение, мин.",null,{"$f":"SUMIF($B$30:$AO$30,C36,$B$34:$AO$34)","v":15},null,{"$f":"SUMIF($B$30:$AO$30,E36,$B$34:$AO$34)","v":0},null,{"$f":"J38-E38-C38","v":0},null,null,{"$f":"SUM(B34:AO34)","v":15},null,null,null,null,null,null,{"$f":"HOUR(Q37)*60+MINUTE(Q37)","v":105},{"$f":"HOUR(R37)*60+MINUTE(R37)","v":0},null,0,null,{"$f":"SUM(Q38:U38)","v":105}]
["Патрулирование",null,{"$f":"TIME(ROUNDDOWN(C40/60,0),C40-ROUNDDOWN(C40/60,0)*60,0)","v":"01:30:00"},null,null,null,null,null,null,{"$f":"TIME(ROUNDDOWN(J40/60,0),J40-ROUNDDOWN(J40/60,0)*60,0)","v":"01:30:00"},null,null,{"$f":"AI7","v":0},null,null,null,null,null,null,null,null,{"$f":"TIME(ROUNDDOWN(V40/60,0),V40-ROUNDDOWN(V40/60,0)*60,0)","v":"00:00:00"}]
["Патрулирование, мин.",null,{"$f":"J43-J38","v":90},null,{"$f":"HOUR(E39)*60+MINUTE(E39)","v":0},null,{"$f":"HOUR(G39)*60+MINUTE(G39)","v":0},null,null,{"$f":"HOUR(C39)*60+MINUTE(C39)+E40+G40","v":90},null,null,null,null,null,null,{"$f":"HOUR(Q39)*60+MINUTE(Q39)","v":0},{"$f":"HOUR(R39)*60+MINUTE(R39)","v":0},null,{"$f":"HOUR(T39)*60+MINUTE(T39)","v":0},null,{"$f":"SUM(Q40:U40)","v":0}]
["Прочие",null,null,null,null,null,{"$f":"TIME(ROUNDDOWN(G42/60,0),G42-ROUNDDOWN(G42/60,0)*60,0)","v":"00:00:00"},null,null,{"$f":"TIME(ROUNDDOWN(J42/60,0),J42-ROUNDDOWN(J42/60,0)*60,0)","v":"00:00:00"},null,null,null,null,null,null,null,null,null,null,null,{"$f":"TIME(ROUNDDOWN(V42/60,0),V42-ROUNDDOWN(V42/60,0)*60,0)","v":"00:00:00"}]
["Прочие, мин.",null,{"$f":"HOUR(C41)*60+MINUTE(C41)","v":0},null,{"$f":"HOUR(E41)*60+MINUTE(E41)","v":0},null,{"$f":"J43-J38-J40-C42-E42","v":0},null,null,{"$f":"J43-J40-J38","v":0},null,null,null,null,null,null,{"$f":"HOUR(Q41)*60+MINUTE(Q41)","v":0},{"$f":"HOUR(R41)*60+MINUTE(R41)","v":0},null,{"$f":"HOUR(T41)*60+MINUTE(T41)","v":0},null,0]
["Итого налёт, мин.",null,{"$f":"C38+C40+C42","v":105},null,{"$f":"E38+E40+E42","v":0},null,{"$f":"G38+G40+G42","v":0},null,null,{"$f":"F46*60+K46","v":105},null,null,null,null,null,null,{"$f":"HOUR(Q44)*60+MINUTE(Q44)","v":0},{"$f":"HOUR(R44)*60+MINUTE(R44)","v":0},null,{"$f":"HOUR(T44)*60+MINUTE(T44)","v":0},null,{"$f":"SUM(Q43:U43)","v":0}]
["ИТОГО:",null,{"$f":"TIME(ROUNDDOWN(C43/60,0),C43-ROUNDDOWN(C43/60,0)*60,0)","v":"01:45:00"},null,{"$f":"TIME(ROUNDDOWN(E43/60,0),E43-ROUNDDOWN(E43/60,0)*60,0)","v":"00:00:00"},null,{"$f":"TIME(ROUNDDOWN(G43/60,0),G43-ROUNDDOWN(G43/60,0)*60,0)","v":"00:00:00"},null,null,{"$f":"TIME(F46,K46,0)","v":"01:45:00"},null,null,null,null,null,null,null,null,null,null,null,{"$f":"TIME(ROUNDDOWN(V43/60,0),V43-ROUNDDOWN(V43/60,0)*60,0)","v":"00:00:00"}]
[]
["Фактическое время полета",null,null,null,null,{"$f":"IF(HOUR(SUM('БЖ обратная сторона'!J7:K29)+SUM('Доп к БЖ'!I10:J35)+SUM('Доп к БЖ-2'!I7:J34))=0,\"0\",HOUR(SUM('БЖ обратная сторона'!J7:K29)+SUM('Доп к БЖ'!I10:J35)+SUM('Доп к БЖ-2'!I7:J34)))","v":1},null,null,"час.",null,{"$f":"IF(MINUTE(SUM('БЖ обратная сторона'!J7:K29)+SUM('Доп к БЖ'!I10:J35)+SUM('Доп к БЖ-2'!I7:J34))=0,\"00\",MINUTE(SUM('БЖ обратная сторона'!J7:K29)+SUM('Доп к БЖ'!I10:J35)+SUM('Доп к БЖ-2'!I7:J34)))","v":45},null,"мин.",null,null,null,"Подпись, ФИО летчика-наблюдателя",null,null,null,null,null,null,null,null,null,null,null,null,null,null,null,null,null,null,null,null,{"$f":"R7","v":"Иванов И.А."}]
["Оценка и основные недостатки в работе летнаба в полете"]
[]
[null,null,null,null,null,null,null,null,null,null,null,null,null,null,null,null,"Должность, подпись, ФИО проверяющего",null,null,null,null,null,null,null,null,null,null,null,null,null,null,null,null,null,null,null,null,{"$f":"AI7","v":0}]

{"sheet":"БЖ обратная сторона","index":1,"n_rows":35,"n_cols":37,"rows_kept":35,"cut":false,"hidden":false,"merged":[[26,0,26,1],[27,0,27,1],[28,0,28,1],[34,34,34,36],[12,9,12,10],[9,11,9,12],[19,11,19,12],[18,9,18,10],[18,11,18,12],[16,9,16,10],[16,11,16,12],[14,9,14,10],[14,11,14,12],[13,9,13,10],[13,11,13,12],[21,9,21,10],[21,11,21,12],[27,11,27,12],[26,11,26,12],[19,0,19,1],[20,0,20,1],[21,0,21,1],[22,0,22,1],[23,0,23,1],[24,0,24,1],[25,0,25,1],[1,13,2,13],[6,11,6,12],[3,24,5,29],[3,30,5,31],[26,9,26,10],[15,11,15,12],[12,11,12,12],[9,9,9,10],[15,9,15,10],[6,9,6,10],[23,9,23,10],[22,11,22,12],[23,11,23,12],[11,9,11,10],[11,11,11,12],[10,9,10,10],[10,11,10,12],[7,9,7,10],[24,11,24,12],[25,11,25,12],[6,0,6,1],[2,2,5,2],[0,0,0,36],[1,34,1,36],[2,34,5,35],[3,22,5,23],[2,36,5,36],[1,30,2,31],[1,32,2,33],[2,17,2,19],[1,24,2,29],[3,32,5,33],[2,3,5,3],[2,14,2,16],[1,6,5,6],[1,7,5,7],[1,2,1,3],[1,4,5,4],[1,17,1,19],[1,20,2,21],[1,22,2,23],[3,13,5,13],[3,14,5,16],[3,17,5,19],[3,20,5,21],[1,14,1,16],[1,8,5,8],[1,9,5,10],[1,11,5,12],[1,0,5,1],[1,5,5,5],[31,0,31,36],[29,0,29,36],[30,34,30,36],[16,0,16,1],[17,0,17,1],[18,0,18,1],[20,9,20,10],[20,11,20,12],[17,11,17,12],[19,9,19,10],[17,9,17,10],[22,9,22,10],[28,9,28,10],[27,9,27,10],[28,11,28,12],[24,9,24,10],[25,9,25,10],[7,0,7,1],[8,0,8,1],[7,11,7,12],[9,0,9,1],[10,0,10,1],[11,0,11,1],[15,0,15,1],[8,9,8,10],[8,11,8,12],[12,0,12,1],[13,0,13,1],[14,0,14,1]]}
["ВЫПОЛНЕНИЕ ПОЛЕТА"]
["Маршрут",null,"время",null,"МК","H","Vпр.","УС","S, км","tП",null,"W",null,"а)","РНТ",null,null,"время",null,null,"МК",null,"КУР",null,"МПР",null,null,null,null,null,"МПС",null,"МС",null,"Для заметок"]
[null,null,"расч.","факт.",null,null,null,null,null,null,null,null,null,null," (место)",null,null,"пеленг.",null,null,null,null,null,null,null,null,null,null,null,null,null,null,null,null,"состояние пожара",null,"характкрис-тика принятых мер"]
[null,null,null,null,null,null,null,null,null,null,null,null,null,"б) № пож.","лесничество",null,null,"участвковое  лесничество",null,null,"№ квар-тала",null,"район",null,"состав, полнота, возраст",null,null,null,null,null,"площ., га",null,"катего-рия причин"]
[]
[]
["взлет",null,null,"14:00:00",197,null,null,null,null,{"$f":"IF(AND((D8-D7)>0,A7<>\"Посадка\"),D8-D7,0)","v":"00:03:00"},null,{"$f":"IF(AND(J7>0,D7>0,NOT(ISNUMBER(SEARCH(\"Сход\",N8)))),ROUND(I7/(HOUR(J7)+MINUTE(J7)/60),0),0)","v":0},null,"Ясно Видимость более 10 км"]
["отход",null,null,"14:03:00",260,200,170,2,17,"00:06:00",null,170,null,"р/д Забойка \"взлет\""]
["Ставрово",null,"14:06:00","14:09:00",284,800,180,4,45,"00:16:00",null,169,null,"р/д Гроза 1 \"Начало работы\""]
["Кольчугино",null,"14:25:00","14:25:00",234,800,180,-1,37,"00:08:00",null,0,null,"р/д Гроза 1 (\"окончание, пожаров нет\"), р/д Гроза 2 (\"требуется осмотр пожара 100\")"]
["      Бельцы",null,null,"14:33:00",300,800,180,null,null,"00:04:00",null,0,null,"Сход к месту пожара 100"]
["м.п. №100",null,null,"14:37:00",null,600,180,null,null,"00:08:00",null,{"$f":"IF(AND(J12>0,D12>0,NOT(ISNUMBER(SEARCH(\"Сход\",N14)))),ROUND(I12/(HOUR(J12)+MINUTE(J12)/60),0),0)","v":0},null,null,null,null,null,null,null,null,null,null,null,null,null,null,null,null,null,null,0.2,5,null,null,"низ. ср",null,"р/д Гроза 2"]
["отход",null,null,"14:45:00",170,800,180,null,null,"00:03:00",null,{"$f":"IF(AND(J13>0,D13>0,NOT(ISNUMBER(SEARCH(\"Сход\",N15)))),ROUND(I13/(HOUR(J13)+MINUTE(J13)/60),0),0)","v":0},null,"горит с.в. часть  36 квартала, работают люди, требуется дополнительно 1 трактор, 1 ПМ, 6 АПС"]
["Слободка",null,null,"14:48:00",190,800,180,null,null,"00:05:00",null,0,null,"р/д Забойка 3 \"Сообщение о пожаре №100\""]
["Киржач",null,null,"14:53:00",139,600,180,-5,33,"00:11:00",null,0,null,"р/д Гроза 2 (\"окончание, \"новых пожаров нет\"), р/д Гроза 3 (\"начало работы\")"]
["Покров",null,"15:04:00","15:04:00",64,600,180,1,null,{"$f":"IF(AND((D17-D16)>0,A16<>\"Посадка\"),D17-D16,0)","v":"00:06:00"},null,0,null,"Сход на дым, р/д Гроза 3 (\"окончание\"), р/д Гроза 4 (\"начало работы\")"]
["м.п.",null,null,"15:10:00",null,600,180,2,null,"00:05:00",null,0,null,101,"Покровское",null,null,"Костеревское",null,null,85,null,"н",null,"3с7б, 0,5",null,null,null,null,null,null,0.05,"н/у",null,"низ. сл.",null,"р/д Гроза 4"]
["отход",null,null,"15:15:00",100,800,170,null,null,"00:15:00",null,0,null,"N56°30'12'', E42°15'20'', горит ю.в. часть  85 квартала, требуется 1 ПМ, 8 АПС"]
["Собинка",null,null,"15:30:00",64,800,180,2,25,{"$f":"IF(AND((D20-D19)>0,A19<>\"Посадка\"),D20-D19,0)","v":"00:10:00"},null,{"$f":"IF(AND(J19>0,D19>0,NOT(ISNUMBER(SEARCH(\"Сход\",N20)))),ROUND(I19/(HOUR(J19)+MINUTE(J19)/60),0),0)","v":150},null,"р/д Гроза 4 (\"окончание\"), Забойка (\"контрольная связь, передача пожаров\")"]
["Владимир",null,"15:23:00","15:40:00",null,300,140,null,null,"00:05:00",null,0,null,"р/д Забойка \"конец работы\""]
["посадка",null,null,"15:45:00",197,null,null,null,null,"00:00:00",null,0]
[null,null,null,null,null,null,null,null,null,"00:00:00",null,0]
[null,null,null,null,null,null,null,null,null,"00:00:00",null,0]
[null,null,null,null,null,null,null,null,null,"00:00:00",null,0]
[null,null,null,null,null,null,null,null,null,"00:00:00",null,0]
[null,null,null,null,null,null,null,null,null,"00:00:00",null,0]
[null,null,null,null,null,null,null,null,null,"00:00:00",null,0]
[null,null,null,null,null,null,null,null,null,"00:00:00",null,0]
[null,null,null,null,null,null,null,null,null,{"$f":"IF(AND(('Доп к БЖ'!C10-D29)>0,A29<>\"Посадка\"),'Доп к БЖ'!C10-D29,0)","v":"00:00:00"},null,{"$f":"IF(AND(J29>0,D29>0,NOT(ISNUMBER(SEARCH(\"Сход\",'Доп к БЖ'!M10)))),ROUND(I29/(HOUR(J29)+MINUTE(J29)/60),0),0)","v":0}]
[]
["Фактическое время полета",null,null,null,{"$f":"БЖ!F46","v":1},"час.",{"$f":"БЖ!K46","v":45},"мин.",null,null,null,null,null,null,null,null,null,null,null,"Подпись летчика-наблюдателя",null,null,null,null,null,"летчик-наблюдатель",null,null,null,null,null,null,null,null,{"$f":"БЖ!R7","v":"Иванов И.А."}]
[]
["Оценка и основные недостатки в работе летнаба в полете ______________________________________________________________"]
[]
[null,null,null,null,null,null,null,null,null,null,null,null,null,null,null,null,null,"Должность, подпись ФИО, проверяющего",null,null,null,null,null,null,null,null,null,null,null,null,null,null,null,null,{"$f":"БЖ!AI7","v":0}]

{"sheet":"Доп к БЖ","index":2,"n_rows":35,"n_cols":36,"rows_kept":35,"cut":false,"hidden":false,"merged":[[3,0,3,35],[1,13,1,18],[2,13,2,19],[1,32,1,34],[2,32,2,34],[1,0,1,2],[2,0,2,2],[15,8,15,9],[15,10,15,11],[4,0,8,0],[4,1,4,2],[4,3,8,3],[4,4,8,4],[4,5,8,5],[5,1,8,1],[5,2,8,2],[10,8,10,9],[10,10,10,11],[11,8,11,9],[11,10,11,11],[4,6,8,6],[9,10,9,11],[12,8,12,9],[6,29,8,30],[6,31,8,32],[4,29,5,30],[9,36,34,36],[4,7,8,7],[4,8,8,9],[4,10,8,11],[4,12,5,12],[6,12,8,12],[4,21,5,22],[6,13,8,15],[6,16,8,18],[4,33,4,35],[5,35,8,35],[5,33,8,34],[9,8,9,9],[6,19,8,20],[4,23,5,28],[4,13,4,15],[6,21,8,22],[6,23,8,28],[4,31,5,32],[5,13,5,15],[5,16,5,18],[4,16,4,18],[4,19,5,20],[18,10,18,11],[19,8,19,9],[19,10,19,11],[16,8,16,9],[16,10,16,11],[17,8,17,9],[17,10,17,11],[18,8,18,9],[31,8,31,9],[31,10,31,11],[20,8,20,9],[20,10,20,11],[21,8,21,9],[21,10,21,11],[22,8,22,9],[22,10,22,11],[24,8,24,9],[24,10,24,11],[29,8,29,9],[29,10,29,11],[23,8,23,9],[23,10,23,11],[12,10,12,11],[13,8,13,9],[13,10,13,11],[14,8,14,9],[14,10,14,11],[34,8,34,9],[34,10,34,11],[25,8,25,9],[25,10,25,11],[26,8,26,9],[26,10,26,11],[27,8,27,9],[27,10,27,11],[28,8,28,9],[28,10,28,11],[32,8,32,9],[32,10,32,11],[33,8,33,9],[33,10,33,11],[30,8,30,9],[30,10,30,11]]}
[]
[{"$f":"БЖ!A4","v":"Владимирское"},null,null,"       Продолжение № _____ бортжурнала от",null,null,null,null,null,null,null,null,null,{"$f":"БЖ!G3","v":"2019-10-05"},null,null,null,null,null,null,null,null,null,null,null,null,"к заявке  на полёт №",null,null,null,null,null,{"$f":"БЖ!AE3","v":62}]
["авиаотделению",null,null,null,null,null,null,null,null,null,null,null,null,"дата",null,null,null,null,null,null,null,null,null,null,null,null,null,null,null,null,null,null,"номер заявки"]
["ВЫПОЛНЕНИЕ ПОЛЕТА"]
["Маршрут","время",null,"МК","H","Vпр.","УС","S, км","tП",null,"W",null,"а)","РНТ",null,null,"время",null,null,"МК",null,"КУР",null,"МПР",null,null,null,null,null,"МПС",null,"МС",null,"Для заметок"]
[null,"расч.","факт.",null,null,null,null,null,null,null,null,null,null," (место)",null,null,"пеленг.",null,null,null,null,null,null,null,null,null,null,null,null,null,null,null,null,"состояние пожара",null,"характеристика принятых мер"]
[null,null,null,null,null,null,null,null,null,null,null,null,"б) № пож.","лесничество",null,null,"участвковое  лесничество",null,null,"№ квар-тала",null,"район",null,"состав, полнота, возраст",null,null,null,null,null,"площ., га",null,"катего-рия причин"]
[]
[]
[null,null,null,null,null,null,null,null,{"$f":"IF(AND((C11-C10)>0,A10<>\"Посадка\"),C11-C10,0)","v":"00:00:00"},null,{"$f":"IF(AND(I10>0,C10>0,NOT(ISNUMBER(SEARCH(\"Сход\",M11)))),ROUND(H10/(HOUR(I10)+MINUTE(I10)/60),0),0)","v":0}]
[null,null,null,null,null,null,null,null,{"$f":"IF(AND((C12-C11)>0,A11<>\"Посадка\"),C12-C11,0)","v":"00:00:00"},null,{"$f":"IF(AND(I11>0,C11>0,NOT(ISNUMBER(SEARCH(\"Сход\",M12)))),ROUND(H11/(HOUR(I11)+MINUTE(I11)/60),0),0)","v":0}]
[null,null,null,null,null,null,null,null,"00:00:00",null,0]
[null,null,null,null,null,null,null,null,"00:00:00",null,0]
[null,null,null,null,null,null,null,null,"00:00:00",null,0]
[null,null,null,null,null,null,null,null,"00:00:00",null,0]
[null,null,null,null,null,null,null,null,"00:00:00",null,0]
[null,null,null,null,null,null,null,null,"00:00:00",null,0]
[null,null,null,null,null,null,null,null,"00:00:00",null,0]
[null,null,null,null,null,null,null,null,"00:00:00",null,0]
[null,null,null,null,null,null,null,null,"00:00:00",null,0]
[null,null,null,null,null,null,null,null,"00:00:00",null,0]
[null,null,null,null,null,null,null,null,"00:00:00",null,0]
[null,null,null,null,null,null,null,null,"00:00:00",null,0]
[null,null,null,null,null,null,null,null,"00:00:00",null,0]
[null,null,null,null,null,null,null,null,"00:00:00",null,0]
[null,null,null,null,null,null,null,null,"00:00:00",null,0]
[null,null,null,null,null,null,null,null,"00:00:00",null,0]
[null,null,null,null,null,null,null,null,"00:00:00",null,0]
[null,null,null,null,null,null,null,null,"00:00:00",null,0]
[null,null,null,null,null,null,null,null,"00:00:00",null,0]
[null,null,null,null,null,null,null,null,"00:00:00",null,0]
[null,null,null,null,null,null,null,null,"00:00:00",null,0]
[null,null,null,null,null,null,null,null,"00:00:00",null,0]
[null,null,null,null,null,null,null,null,"00:00:00",null,0]
[null,null,null,null,null,null,null,null,{"$f":"IF(AND(('Доп к БЖ-2'!C7-C35)>0,A35<>\"Посадка\"),'Доп к БЖ-2'!C7-C35,0)","v":"00:00:00"},null,{"$f":"IF(AND(I35>0,C35>0,NOT(ISNUMBER(SEARCH(\"Сход\",'Доп к БЖ-2'!M7)))),ROUND(H35/(HOUR(I35)+MINUTE(I35)/60),0),0)","v":0}]

{"sheet":"Доп к БЖ-2","index":3,"n_rows":34,"n_cols":36,"rows_kept":34,"cut":false,"hidden":false,"merged":[[0,0,0,35],[1,7,5,7],[1,8,5,9],[1,10,5,11],[1,12,2,12],[1,29,2,30],[3,13,5,15],[1,5,5,5],[2,35,5,35],[3,12,5,12],[1,6,5,6],[1,31,2,32],[2,13,2,15],[3,19,5,20],[1,13,1,15],[3,21,5,22],[29,8,29,9],[29,10,29,11],[6,36,33,36],[1,0,5,0],[1,1,1,2],[1,3,5,3],[1,4,5,4],[2,1,5,1],[2,2,5,2],[1,33,1,35],[1,23,2,28],[6,8,6,9],[6,10,6,11],[12,8,12,9],[12,10,12,11],[2,33,5,34],[3,23,5,28],[3,29,5,30],[3,31,5,32],[2,16,2,18],[1,16,1,18],[1,19,2,20],[1,21,2,22],[3,16,5,18],[13,8,13,9],[13,10,13,11],[8,8,8,9],[7,8,7,9],[7,10,7,11],[8,10,8,11],[9,8,9,9],[9,10,9,11],[10,8,10,9],[10,10,10,11],[11,8,11,9],[11,10,11,11],[14,8,14,9],[14,10,14,11],[15,8,15,9],[15,10,15,11],[16,8,16,9],[16,10,16,11],[27,8,27,9],[27,10,27,11],[28,8,28,9],[28,10,28,11],[22,8,22,9],[22,10,22,11],[23,8,23,9],[23,10,23,11],[24,10,24,11],[25,8,25,9],[25,10,25,11],[26,8,26,9],[24,8,24,9],[26,10,26,11],[30,8,30,9],[30,10,30,11],[32,8,32,9],[32,10,32,11],[33,8,33,9],[33,10,33,11],[31,8,31,9],[31,10,31,11],[20,8,20,9],[20,10,20,11],[21,8,21,9],[21,10,21,11],[17,8,17,9],[17,10,17,11],[18,8,18,9],[18,10,18,11],[19,8,19,9],[19,10,19,11]]}
["ВЫПОЛНЕНИЕ ПОЛЕТА"]
["Маршрут","время",null,"МК","H","Vпр.","УС","S, км","tП",null,"W",null,"а)","РНТ",null,null,"время",null,null,"МК",null,"КУР",null,"МПР",null,null,null,null,null,"МПС",null,"МС",null,"Для заметок"]
[null,"расч.","факт.",null,null,null,null,null,null,null,null,null,null," (место)",null,null,"пеленг.",null,null,null,null,null,null,null,null,null,null,null,null,null,null,null,null,"состояние пожара",null,"характеристика принятых мер"]
[null,null,null,null,null,null,null,null,null,null,null,null,"б) № пож.","лесничество",null,null,"участвковое  лесничество",null,null,"№ квар-тала",null,"район",null,"состав, полнота, возраст",null,null,null,null,null,"площ., га",null,"катего-рия причин"]
[]
[]
[null,null,null,null,null,null,null,null,{"$f":"IF(AND((C8-C7)>0,A7<>\"Посадка\"),C8-C7,0)","v":"00:00:00"},null,{"$f":"IF(AND(I7>0,C7>0,NOT(ISNUMBER(SEARCH(\"Сход\",M8)))),ROUND(H7/(HOUR(I7)+MINUTE(I7)/60),0),0)","v":0}]
[null,null,null,null,null,null,null,null,{"$f":"IF(AND((C9-C8)>0,A8<>\"Посадка\"),C9-C8,0)","v":"00:00:00"},null,{"$f":"IF(AND(I8>0,C8>0,NOT(ISNUMBER(SEARCH(\"Сход\",M9)))),ROUND(H8/(HOUR(I8)+MINUTE(I8)/60),0),0)","v":0}]
[null,null,null,null,null,null,null,null,"00:00:00",null,0]
[null,null,null,null,null,null,null,null,"00:00:00",null,0]
[null,null,null,null,null,null,null,null,"00:00:00",null,0]
[null,null,null,null,null,null,null,null,"00:00:00",null,0]
[null,null,null,null,null,null,null,null,"00:00:00",null,0]
[null,null,null,null,null,null,null,null,"00:00:00",null,0]
[null,null,null,null,null,null,null,null,"00:00:00",null,0]
[null,null,null,null,null,null,null,null,"00:00:00",null,0]
[null,null,null,null,null,null,null,null,"00:00:00",null,0]
[null,null,null,null,null,null,null,null,"00:00:00",null,0]
[null,null,null,null,null,null,null,null,"00:00:00",null,0]
[null,null,null,null,null,null,null,null,"00:00:00",null,0]
[null,null,null,null,null,null,null,null,"00:00:00",null,0]
[null,null,null,null,null,null,null,null,"00:00:00",null,0]
[null,null,null,null,null,null,null,null,"00:00:00",null,0]
[null,null,null,null,null,null,null,null,"00:00:00",null,0]
[null,null,null,null,null,null,null,null,"00:00:00",null,0]
[null,null,null,null,null,null,null,null,"00:00:00",null,0]
[null,null,null,null,null,null,null,null,"00:00:00",null,0]
[null,null,null,null,null,null,null,null,"00:00:00",null,0]
[null,null,null,null,null,null,null,null,"00:00:00",null,0]
[null,null,null,null,null,null,null,null,"00:00:00",null,0]
[null,null,null,null,null,null,null,null,"00:00:00",null,0]
[null,null,null,null,null,null,null,null,"00:00:00",null,0]
[null,null,null,null,null,null,null,null,"00:00:00",null,0]
[null,null,null,null,null,null,null,null,"00:00:00",null,0]

{"sheet":"Архив маршрутов","index":4,"n_rows":33,"n_cols":44,"rows_kept":33,"cut":false,"hidden":false,"merged":[[3,1,4,1],[2,28,2,31],[3,28,4,28],[3,29,4,29],[3,30,4,30],[3,31,4,31],[2,24,2,27],[3,24,4,24],[3,25,4,25],[2,16,2,19],[3,16,4,16],[3,17,4,17],[3,18,4,18],[3,19,4,19],[3,27,4,27],[2,20,2,23],[3,20,4,20],[3,21,4,21],[3,22,4,22],[3,26,4,26],[3,23,4,23],[3,14,4,14],[3,15,4,15],[2,8,2,11],[3,8,4,8],[3,9,4,9],[3,10,4,10],[3,11,4,11],[3,33,4,33],[3,34,4,34],[3,35,4,35],[2,0,2,3],[1,0,1,3],[2,4,2,7],[3,4,4,4],[3,5,4,5],[3,6,4,6],[3,7,4,7],[3,3,4,3],[3,2,4,2],[3,0,4,0],[2,12,2,15],[3,12,4,12],[3,13,4,13],[21,0,21,3],[22,0,22,3],[23,0,23,3],[24,0,24,3],[2,40,2,43],[3,40,4,40],[3,41,4,41],[3,42,4,42],[3,43,4,43],[2,36,2,39],[3,36,4,36],[3,37,4,37],[3,38,4,38],[3,39,4,39],[2,32,2,35],[3,32,4,32],[29,0,29,3],[30,0,30,3],[31,0,31,3],[25,0,25,3],[26,0,26,3],[27,0,27,3],[28,0,28,3]]}
[]
["Выбранный маршрут"]
[{"$f":"OFFSET(A3,0,A33*4)","v":"Маршрут № 1"},null,null,null,"Маршрут № 1",null,null,null,"Маршрут № 2",null,null,null,"Маршрут № 3",null,null,null,"Маршрут № 4",null,null,null,"Маршрут № 5",null,null,null,"Маршрут № 6",null,null,null,7,null,null,null,8,null,null,null,9,null,null,null,10]
["Маршрут","МПУ","S, км","Hрел.","Маршрут","МПУ","S, км","Hрел.","Маршрут","МПУ","S, км","Hрел.","Маршрут","МПУ","S, км","Hрел.","Маршрут","МПУ","S, км","Hрел.","Маршрут","МПУ","S, км","Hрел.","Маршрут","МПУ","S, км","Hрел.","Маршрут","МПУ","S, км","Hрел.","Маршрут","МПУ","S, км","Hрел.","Маршрут","МПУ","S, км","Hрел.","Маршрут","МПУ","S, км","Hрел."]
[]
[{"$f":"OFFSET(A6,0,$A$33*4)","v":"Владимир"},220,25,168,"Владимир",220,25,168,"Владимир",262,17,168,"Владимир",262,17,168]
["Собинка",149,37,162,"Собинка",149,37,162,"Ставрово",288,45,213,"Ставрово",288,45,213]
["Уршельский",105,97,162,"Уршельский",105,97,162,"Кольчугино",233,37,216,"Кольчугино",233,37,216]
["Меленки",360,62,154,"Меленки",360,62,154,"Киржач",133,33,149,"Киржач",133,33,149]
["КР.Горбатка",38,55,159,"КР.Горбатка",38,55,159,"Покров",64,62,159,"Покров",64,62,159]
["Перово",276,72,152,"Перово",276,72,152,"Собинка",40,25,168,"Собинка",149,37,162]
["Ковров",224,60,131,"Ковров",224,60,131,"Владимир",null,null,null,"Уршельский",105,97,162]
["Бараки",294,17,164,"Бараки",294,17,164,null,null,null,null,"Меленки",360,62,154]
["Владимир",0,0,0,"Владимир",null,null,null,null,null,null,null,"Кр.Горбатка",38,55,159]
[0,0,0,0,null,null,null,null,null,null,null,null,"Перово",276,72,152]
[0,0,0,0,null,null,null,null,null,null,null,null,"Ковров",224,60,131]
[0,0,0,0,null,null,null,null,null,null,null,null,"Бараки",294,17,164]
[0,0,0,0,null,null,null,null,null,null,null,null,"Владимир"]
[0,0,0,0]
[0,0,0,0]
[]
["Список маршрутов"]
[{"$f":"E3","v":"Маршрут № 1"}]
[{"$f":"I3","v":"Маршрут № 2"}]
[{"$f":"M3","v":"Маршрут № 3"}]
[{"$f":"Q3","v":"Маршрут № 4"}]
[{"$f":"U3","v":"Маршрут № 5"}]
[{"$f":"Y3","v":"Маршрут № 6"}]
[{"$f":"AC3","v":7}]
[{"$f":"AG3","v":8}]
[{"$f":"AK3","v":9}]
[{"$f":"AO3","v":10}]
[1]

{"sheet":"Справочники","index":5,"n_rows":5,"n_cols":7,"rows_kept":5,"cut":false,"hidden":false,"merged":[]}
["Список летнабов","Командир ВС","Тип ВС","№ борта","Проверяющий","Вид работ","Ведомство"]
["Иванов И.А.","Петров И.П.","Ан-2","02525","Сидоров И.И.","Тушение","ФАЛХ"]
[null,null,null,null,null,"Патрулирование","ООПТ"]
[null,null,null,null,null,"Тренировка","МО"]
[null,null,null,null,null,"Прочее"]

{"sheet":"Настройки","index":6,"n_rows":5,"n_cols":7,"rows_kept":5,"cut":false,"hidden":false,"merged":[[0,6,0,7]]}
["Настройки",null,null,null,null,null,"Символы"]
["Аэронавигационный запас, ч:мин",null,null,null,"00:45:00",null,"Взлет"]
["Широта, градусов (пример, 56.78)",null,null,null,56.13,null,"Посадка"]
["Долгота, градусов (пример, 94.38)",null,null,null,40.32,null,"Траверз"]
["Часовой пояс",null,null,null,3,null,"Коробочка"]